Workbook

Sheet 総括表
B1: 令和6年度 財政状況資料集
B2: 総括表（市町村）
B3: 都道府県名 | L3: 岡山県 | W3: 市町村類型 | AC3: Ⅰ－２ | AM3: 指定団体等の指定状況 | AY3: 区分 | BN3: 令和6年度(千円) | BV3: 令和5年度(千円) | CD3: 区分 | CT3: 令和6年度(千円･％) | DB3: 令和5年度(千円･％)
AY4: 歳入総額 | BN4: 26762588 | BV4: 26698472 | CD4: 実質収支比率 | CT4: 3.5 | DB4: 2.5
AM5: 財政健全化等 | AU5: × | AY5: 歳出総額 | BN5: 26249132 | BV5: 26287188 | CD5: 経常収支比率 | CT5: 97.2 | DB5: 97.3
B6: 市町村名 | L6: 笠岡市 | W6: 地方交付税種地 | AC6: 1-2 | AM6: 財源超過 | AU6: × | AY6: 歳入歳出差引 | BN6: 513456 | BV6: 411284 | CD6: (※1) | CT6: 97.6 | DB6: 98
AM7: 首都 | AU7: × | AY7: 翌年度に繰越すべき財源 | BN7: 31300 | BV7: 74383 | CD7: 標準財政規模 | CT7: 13739965 | DB7: 13548567
AM8: 近畿 | AU8: × | AY8: 実質収支 | BN8: 482156 | BV8: 336901 | CD8: 財政力指数 | CT8: 0.56 | DB8: 0.56
B9: 人口 | L9: 令和2年国調(人) | R9: 46088 | W9: 産業構造 (※5) | AM9: 中部 | AU9: × | AY9: 単年度収支 | BN9: 145255 | BV9: -308563 | CD9: 公債費負担比率 | CT9: 12.6 | DB9: 13
L10: 平成27年国調(人) | R10: 50568 | AM10: 過疎 | AU10: × | AY10: 積立金 | BN10: 18071 | BV10: 7299 | CD10: 健全化判断比率
L11: 増減率 (％) | R11: -8.9 | AM11: 山振 | AU11: × | AY11: 繰上償還金 | BN11: 0 | BV11: 0 | CD11: 実質赤字比率 | CT11: - | DB11: -
B12: 住民基本台帳人口 (※7) | L12: 令07.01.01(人) | R12: 44030 | W12: 区分 | AC12: 令和2年国調 | AH12: 平成27年国調 | AM12: 低開発 | AU12: × | AY12: 積立金取崩し額 | BN12: 602029 | BV12: 577694 | CD12: 連結実質赤字比率 | CT12: - | DB12: -
M13: うち日本人(人) | R13: 43058 | W13: 第1次 | AC13: 997 | AH13: 1041 | AM13: 指数表選定 | AU13: ○ | AY13: 実質単年度収支 | BN13: -438703 | BV13: -878958 | CD13: 実質公債費比率 | CT13: 8.1 | DB13: 7.8
L14: 令06.01.01(人) | R14: 44773 | AC14: 5 | AH14: 4.8 | CD14: 将来負担比率 | CT14: 57.6 | DB14: 48.2
M15: うち日本人(人) | R15: 43966 | W15: 第2次 | AC15: 6428 | AH15: 7054 | AY15: 基準財政収入額 | BN15: 6577100 | BV15: 6596737 | CD15: 資金不足比率 (※4)
L16: 増減率 (％) | R16: -1.7 | AC16: 31.9 | AH16: 32.8 | AY16: 基準財政需要額 | BN16: 11937797 | BV16: 11685261
M17: うち日本人(％) | R17: -2.1 | W17: 第3次 | AC17: 12708 | AH17: 13382 | AY17: 標準税収入額等 | BN17: 8327399 | BV17: 8353777
B18: 面積 (k㎡) | L18: 136.07 | AC18: 63.1 | AH18: 62.3 | AY18: 経常経費充当一般財源等 | BN18: 13776022 | BV18: 13333558
B19: 人口密度 (人/k㎡) | L19: 339 | AY19: 歳入一般財源等 | BN19: 17752765 | BV19: 17678930
B20: 世帯数 (世帯) | L20: 18466
B21: 職員の状況 (※8)
B22: 特別職等 | E22: 区分 | L22: 定数 | Q22: 1人あたり平均 給料月額(百円) | W22: 一般職員等(※6) | Z22: 区分 | AH22: 職員数 (人) | AM22: 給料月額 (百円) | AS22: 1人あたり平均 給料月額(百円) | AY22: 地方債現在高 | BN22: 28776540 | BV22: 28106413
AY23: うち公的資金 | BN23: 25662177 | BV23: 24774677
E24: 市区町村長 | L24: 1 | Q24: 9300 | Z24: 一般職員 | AH24: 365 | AM24: 1205230 | AS24: 3302 | AY24: 地方債現在高（臨時財政対策債除き） | BN24: 21112926 | BV24: 19667402
E25: 副市区町村長 | L25: 1 | Q25: 7550 | Z25: うち消防職員 | AH25: - | AM25: - | AS25: - | AY25: 債務負担行為額（支出予定額） | BN25: 3612286 | BV25: 3736291
E26: 教育長 | L26: 1 | Q26: 6750 | Z26: うち技能労務職員 | AH26: 27 | AM26: 90774 | AS26: 3362 | AY26: 収益事業収入 | BN26: - | BV26: -
E27: 議会議長 | L27: 1 | Q27: 5570 | Z27: 教育公務員 | AH27: 6 | AM27: 22727 | AS27: 3788 | AY27: 土地開発基金現在高 | BN27: 648300 | BV27: 648300
E28: 議会副議長 | L28: 1 | Q28: 4930 | Z28: 臨時職員 | AH28: - | AM28: - | AS28: - | AY28: 積立金 現在高 | BC28: 財政調整基金 | BN28: 677187 | BV28: 1089383
E29: 議会議員 | L29: 18 | Q29: 4500 | Z29: 合計 | AH29: 371 | AM29: 1227957 | AS29: 3310 | BC29: 減債基金 | BN29: 343451 | BV29: 298525
W30: ラスパイレス指数 | AH30: 99.5 | BC30: その他特定目的基金 | BN30: 1250074 | BV30: 1292550
C32: 一般会計等の一覧 | U32: 事業会計の一覧 | AM32: 公営企業（法適）の一覧 | BE32: 公営企業（法非適）の一覧 | BW32: 関係する一部事務組合等一覧 | CO32: 地方公社・第三セクター等一覧
C33: 項番 | E33: 会計名 | U33: 項番 | W33: 会計名 | AM33: 項番 | AO33: 会計名 | BE33: 項番 | BG33: 会計名 | BW33: 項番 | BY33: 組合等名 | CO33: 項番 | CQ33: 団体名 | DG33: (※3)
C34: =IF(E34="","",1) -> 1 | E34: =IF('各会計、関係団体の財政状況及び健全化判断比率'!B7="","",'各会計、関係団体の財政状況及び健全化判断比率'!B7) -> 一般会計 | U34: =IF(W34="","",MAX(C34:D43)+1) -> 4 | W34: =IF('各会計、関係団体の財政状況及び健全化判断比率'!B28="","",'各会計、関係団体の財政状況及び健全化判断比率'!B28) -> 笠岡市国民健康保険事業特別会計 | AM34: =IF(AO34="","",MAX(C34:D43,U34:V43)+1) -> 8 | AO34: =IF('各会計、関係団体の財政状況及び健全化判断比率'!B32="","",'各会計、関係団体の財政状況及び健全化判断比率'!B32) -> 笠岡市水道事業会計 | BE34: =IF(BG34="","",MAX(C34:D43,U34:V43,AM34:AN43)+1) -> 11 | BG34: =IF('各会計、関係団体の財政状況及び健全化判断比率'!B35="","",'各会計、関係団体の財政状況及び健全化判断比率'!B35) -> 笠岡市土地造成事業特別会計 | BW34: =IF(BY34="","",MAX(C34:D43,U34:V43,AM34:AN43,BE34:BF43)+1) -> 13 | BY34: =IF('各会計、関係団体の財政状況及び健全化判断比率'!B68="","",'各会計、関係団体の財政状況及び健全化判断比率'!B68) -> 岡山県笠岡市・矢掛町中学校組合 | CO34: =IF(CQ34="","",MAX(C34:D43,U34:V43,AM34:AN43,BE34:BF43,BW34:BX43)+1) -> 23 | CQ34: =IF('各会計、関係団体の財政状況及び健全化判断比率'!BS7="","",'各会計、関係団体の財政状況及び健全化判断比率'!BS7) -> 笠岡市総合福祉事業団吸江社 | DG34: =IF('各会計、関係団体の財政状況及び健全化判断比率'!BR7="","",'各会計、関係団体の財政状況及び健全化判断比率'!BR7)
C35: =IF(E35="","",C34+1) -> 2 | E35: =IF('各会計、関係団体の財政状況及び健全化判断比率'!B8="","",'各会計、関係団体の財政状況及び健全化判断比率'!B8) -> 笠岡市へき地診療施設特別会計 | U35: =IF(W35="","",U34+1) -> 5 | W35: =IF('各会計、関係団体の財政状況及び健全化判断比率'!B29="","",'各会計、関係団体の財政状況及び健全化判断比率'!B29) -> 笠岡市国民健康保険真鍋島直営診療施設特別会計 | AM35: =IF(AO35="","",AM34+1) -> 9 | AO35: =IF('各会計、関係団体の財政状況及び健全化判断比率'!B33="","",'各会計、関係団体の財政状況及び健全化判断比率'!B33) -> 笠岡市病院事業会計 | BE35: =IF(BG35="","",BE34+1) -> 12 | BG35: =IF('各会計、関係団体の財政状況及び健全化判断比率'!B36="","",'各会計、関係団体の財政状況及び健全化判断比率'!B36) -> 笠岡市工業団地造成事業特別会計 | BW35: =IF(BY35="","",BW34+1) -> 14 | BY35: =IF('各会計、関係団体の財政状況及び健全化判断比率'!B69="","",'各会計、関係団体の財政状況及び健全化判断比率'!B69) -> 岡山県西部衛生施設組合 | CO35: =IF(CQ35="","",CO34+1) -> 24 | CQ35: =IF('各会計、関係団体の財政状況及び健全化判断比率'!BS8="","",'各会計、関係団体の財政状況及び健全化判断比率'!BS8) -> 笠岡市文化スポーツ振興財団 | DG35: =IF('各会計、関係団体の財政状況及び健全化判断比率'!BR8="","",'各会計、関係団体の財政状況及び健全化判断比率'!BR8)
C36: =IF(E36="","",C35+1) -> 3 | E36: =IF('各会計、関係団体の財政状況及び健全化判断比率'!B9="","",'各会計、関係団体の財政状況及び健全化判断比率'!B9) -> 笠岡市公共用地取得事業特別会計 | U36: =IF(W36="","",U35+1) -> 6 | W36: =IF('各会計、関係団体の財政状況及び健全化判断比率'!B30="","",'各会計、関係団体の財政状況及び健全化判断比率'!B30) -> 笠岡市介護保険事業特別会計 | AM36: =IF(AO36="","",AM35+1) -> 10 | AO36: =IF('各会計、関係団体の財政状況及び健全化判断比率'!B34="","",'各会計、関係団体の財政状況及び健全化判断比率'!B34) -> 笠岡市下水道事業会計 | BE36: =IF(BG36="","",BE35+1) | BW36: =IF(BY36="","",BW35+1) -> 15 | BY36: =IF('各会計、関係団体の財政状況及び健全化判断比率'!B70="","",'各会計、関係団体の財政状況及び健全化判断比率'!B70) -> 岡山県西部環境整備施設組合 | CO36: =IF(CQ36="","",CO35+1) -> 25 | CQ36: =IF('各会計、関係団体の財政状況及び健全化判断比率'!BS9="","",'各会計、関係団体の財政状況及び健全化判断比率'!BS9) -> 笠岡放送（株） | DG36: =IF('各会計、関係団体の財政状況及び健全化判断比率'!BR9="","",'各会計、関係団体の財政状況及び健全化判断比率'!BR9)
C37: =IF(E37="","",C36+1) | E37: =IF('各会計、関係団体の財政状況及び健全化判断比率'!B10="","",'各会計、関係団体の財政状況及び健全化判断比率'!B10) | U37: =IF(W37="","",U36+1) -> 7 | W37: =IF('各会計、関係団体の財政状況及び健全化判断比率'!B31="","",'各会計、関係団体の財政状況及び健全化判断比率'!B31) -> 笠岡市後期高齢者医療特別会計 | AM37: =IF(AO37="","",AM36+1) | BE37: =IF(BG37="","",BE36+1) | BW37: =IF(BY37="","",BW36+1) -> 16 | BY37: =IF('各会計、関係団体の財政状況及び健全化判断比率'!B71="","",'各会計、関係団体の財政状況及び健全化判断比率'!B71) -> 笠岡地区消防組合 | CO37: =IF(CQ37="","",CO36+1) | CQ37: =IF('各会計、関係団体の財政状況及び健全化判断比率'!BS10="","",'各会計、関係団体の財政状況及び健全化判断比率'!BS10) | DG37: =IF('各会計、関係団体の財政状況及び健全化判断比率'!BR10="","",'各会計、関係団体の財政状況及び健全化判断比率'!BR10)
C38: =IF(E38="","",C37+1) | E38: =IF('各会計、関係団体の財政状況及び健全化判断比率'!B11="","",'各会計、関係団体の財政状況及び健全化判断比率'!B11) | U38: =IF(W38="","",U37+1) | AM38: =IF(AO38="","",AM37+1) | BE38: =IF(BG38="","",BE37+1) | BW38: =IF(BY38="","",BW37+1) -> 17 | BY38: =IF('各会計、関係団体の財政状況及び健全化判断比率'!B72="","",'各会計、関係団体の財政状況及び健全化判断比率'!B72) -> 岡山県市町村総合事務組合一般会計 | CO38: =IF(CQ38="","",CO37+1) | CQ38: =IF('各会計、関係団体の財政状況及び健全化判断比率'!BS11="","",'各会計、関係団体の財政状況及び健全化判断比率'!BS11) | DG38: =IF('各会計、関係団体の財政状況及び健全化判断比率'!BR11="","",'各会計、関係団体の財政状況及び健全化判断比率'!BR11)
C39: =IF(E39="","",C38+1) | E39: =IF('各会計、関係団体の財政状況及び健全化判断比率'!B12="","",'各会計、関係団体の財政状況及び健全化判断比率'!B12) | U39: =IF(W39="","",U38+1) | AM39: =IF(AO39="","",AM38+1) | BE39: =IF(BG39="","",BE38+1) | BW39: =IF(BY39="","",BW38+1) -> 18 | BY39: =IF('各会計、関係団体の財政状況及び健全化判断比率'!B73="","",'各会計、関係団体の財政状況及び健全化判断比率'!B73) -> 岡山県市町村総合事務組合貸付金特別会計 | CO39: =IF(CQ39="","",CO38+1) | CQ39: =IF('各会計、関係団体の財政状況及び健全化判断比率'!BS12="","",'各会計、関係団体の財政状況及び健全化判断比率'!BS12) | DG39: =IF('各会計、関係団体の財政状況及び健全化判断比率'!BR12="","",'各会計、関係団体の財政状況及び健全化判断比率'!BR12)
C40: =IF(E40="","",C39+1) | E40: =IF('各会計、関係団体の財政状況及び健全化判断比率'!B13="","",'各会計、関係団体の財政状況及び健全化判断比率'!B13) | U40: =IF(W40="","",U39+1) | AM40: =IF(AO40="","",AM39+1) | BE40: =IF(BG40="","",BE39+1) | BW40: =IF(BY40="","",BW39+1) -> 19 | BY40: =IF('各会計、関係団体の財政状況及び健全化判断比率'!B74="","",'各会計、関係団体の財政状況及び健全化判断比率'!B74) -> 岡山県市町村総合事務組合拠出金事業特別会計 | CO40: =IF(CQ40="","",CO39+1) | CQ40: =IF('各会計、関係団体の財政状況及び健全化判断比率'!BS13="","",'各会計、関係団体の財政状況及び健全化判断比率'!BS13) | DG40: =IF('各会計、関係団体の財政状況及び健全化判断比率'!BR13="","",'各会計、関係団体の財政状況及び健全化判断比率'!BR13)
C41: =IF(E41="","",C40+1) | E41: =IF('各会計、関係団体の財政状況及び健全化判断比率'!B14="","",'各会計、関係団体の財政状況及び健全化判断比率'!B14) | U41: =IF(W41="","",U40+1) | AM41: =IF(AO41="","",AM40+1) | BE41: =IF(BG41="","",BE40+1) | BW41: =IF(BY41="","",BW40+1) -> 20 | BY41: =IF('各会計、関係団体の財政状況及び健全化判断比率'!B75="","",'各会計、関係団体の財政状況及び健全化判断比率'!B75) -> 岡山県市町村税整理組合 | CO41: =IF(CQ41="","",CO40+1) | CQ41: =IF('各会計、関係団体の財政状況及び健全化判断比率'!BS14="","",'各会計、関係団体の財政状況及び健全化判断比率'!BS14) | DG41: =IF('各会計、関係団体の財政状況及び健全化判断比率'!BR14="","",'各会計、関係団体の財政状況及び健全化判断比率'!BR14)
...

Sheet 普通会計の状況
DH1: 令和6年度 | DP1: 岡山県笠岡市
B2: (1) 普通会計の状況（市町村）
B3: 歳入の状況（単位 千円・％） | AP3: 地方税の状況（単位 千円・％） | CD3: 歳出の状況（単位 千円・％）
B4: 区分 | R4: 決算額 | Z4: 構成比 | AD4: 経常一般財源等 | AL4: 構成比 | AP4: 区分 | BG4: 収入済額 | BO4: 構成比 | BS4: 超過課税分 | CD4: 目的別歳出の状況（単位 千円・％）
B5: 地方税 | R5: 7146300 | Z5: 26.7 | AD5: 6706257 | AL5: 47.5 | AP5: 普通税 | BG5: 6706257 | BO5: 93.8 | BS5: 105657 | CD5: 区分 | CR5: 決算額 (A) | CZ5: 構成比 | DD5: (A)のうち普通建設事業費 | DQ5: (A)のうち充当一般財源等
B6: 地方譲与税 | R6: 225028 | Z6: 0.8 | AD6: 225028 | AL6: 1.6 | AP6: 法定普通税 | BG6: 6706257 | BO6: 93.8 | BS6: 105657 | CD6: 議会費 | CR6: 239689 | CZ6: 0.9 | DD6: - | DQ6: 239689
B7: 利子割交付金 | R7: 2930 | Z7: 0 | AD7: 2930 | AL7: 0 | AP7: 市町村民税 | BG7: 2327359 | BO7: 32.6 | BS7: 105657 | CD7: 総務費 | CR7: 3098561 | CZ7: 11.8 | DD7: 127463 | DQ7: 2118574
B8: 配当割交付金 | R8: 40752 | Z8: 0.2 | AD8: 40752 | AL8: 0.3 | AP8: 個人均等割 | BG8: 69392 | BO8: 1 | BS8: - | CD8: 民生費 | CR8: 9287145 | CZ8: 35.4 | DD8: 319589 | DQ8: 5121114
B9: 株式等譲渡所得割交付金 | R9: 66203 | Z9: 0.2 | AD9: 66203 | AL9: 0.5 | AP9: 所得割 | BG9: 1745282 | BO9: 24.4 | BS9: - | CD9: 衛生費 | CR9: 3207711 | CZ9: 12.2 | DD9: 40399 | DQ9: 2141640
B10: 分離課税所得割交付金 | R10: - | Z10: - | AD10: - | AL10: - | AP10: 法人均等割 | BG10: 139697 | BO10: 2 | BS10: - | CD10: 労働費 | CR10: 80946 | CZ10: 0.3 | DD10: - | DQ10: 52532
B11: 地方消費税交付金 | R11: 1217326 | Z11: 4.5 | AD11: 1217326 | AL11: 8.6 | AP11: 法人税割 | BG11: 372988 | BO11: 5.2 | BS11: 105657 | CD11: 農林水産業費 | CR11: 1023426 | CZ11: 3.9 | DD11: 537280 | DQ11: 375563
B12: ゴルフ場利用税交付金 | R12: 40771 | Z12: 0.2 | AD12: 40771 | AL12: 0.3 | AP12: 固定資産税 | BG12: 3868277 | BO12: 54.1 | BS12: - | CD12: 商工費 | CR12: 496602 | CZ12: 1.9 | DD12: 43051 | DQ12: 433355
B13: 自動車取得税交付金 | R13: - | Z13: - | AD13: - | AL13: - | AP13: うち純固定資産税 | BG13: 3860250 | BO13: 54 | BS13: - | CD13: 土木費 | CR13: 2801616 | CZ13: 10.7 | DD13: 1294380 | DQ13: 1583735
B14: 軽油引取税交付金 | R14: - | Z14: - | AD14: - | AL14: - | AP14: 軽自動車税 | BG14: 201830 | BO14: 2.8 | BS14: - | CD14: 消防費 | CR14: 967917 | CZ14: 3.7 | DD14: 83260 | DQ14: 885760
B15: 自動車税環境性能割交付金 | R15: 26482 | Z15: 0.1 | AD15: 26482 | AL15: 0.2 | AP15: 市町村たばこ税 | BG15: 308791 | BO15: 4.3 | BS15: - | CD15: 教育費 | CR15: 2792347 | CZ15: 10.6 | DD15: 420554 | DQ15: 2046000
B16: 法人事業税交付金 | R16: 119427 | Z16: 0.4 | AD16: 119427 | AL16: 0.8 | AP16: 鉱産税 | BG16: - | BO16: - | BS16: - | CD16: 災害復旧費 | CR16: 4444 | CZ16: 0 | DD16: - | DQ16: 144
B17: 地方特例交付金等 | R17: 225547 | Z17: 0.8 | AD17: 225547 | AL17: 1.6 | AP17: 特別土地保有税 | BG17: - | BO17: - | BS17: - | CD17: 公債費 | CR17: 2248728 | CZ17: 8.6 | DD17: - | DQ17: 2241203
B18: 住宅借入金等特別税額控除減収補塡特例交付金 | R18: 32082 | Z18: 0.1 | AD18: 32082 | AL18: 0.2 | AP18: 法定外普通税 | BG18: - | BO18: - | BS18: - | CD18: 諸支出金 | CR18: - | CZ18: - | DD18: - | DQ18: -
B19: 定額減税減収補塡特例交付金 | R19: 179943 | Z19: 0.7 | AD19: 179943 | AL19: 1.3 | AP19: 目的税 | BG19: 440043 | BO19: 6.2 | BS19: - | CD19: 前年度繰上充用金 | CR19: - | CZ19: - | DD19: - | DQ19: -
B20: 新型コロナウイルス感染症対策地方税減収補塡特別交付金 | R20: 13522 | Z20: 0.1 | AD20: 13522 | AL20: 0.1 | AP20: 法定目的税 | BG20: 440043 | BO20: 6.2 | BS20: - | CD20: 歳出合計 | CR20: 26249132 | CZ20: 100 | DD20: 2865976 | DQ20: 17239309
B21: 地方交付税 | R21: 6532542 | Z21: 24.4 | AD21: 5360697 | AL21: 38 | AP21: 入湯税 | BG21: - | BO21: - | BS21: -
B22: 普通交付税 | R22: 5360697 | Z22: 20 | AD22: 5360697 | AL22: 38 | AP22: 事業所税 | BG22: - | BO22: - | BS22: - | CD22: 性質別歳出の状況（単位 千円・％）
B23: 特別交付税 | R23: 1171845 | Z23: 4.4 | AD23: - | AL23: - | AP23: 都市計画税 | BG23: 440043 | BO23: 6.2 | BS23: - | CD23: 区分 | CR23: 決算額 | CZ23: 構成比 | DD23: 充当一般財源等 | DL23: 経常経費充当一般財源等 | DW23: 経常収支比率
B24: 震災復興特別交付税 | R24: - | Z24: - | AD24: - | AL24: - | AP24: 水利地益税等 | BG24: - | BO24: - | BS24: - | CD24: 義務的経費計 | CR24: 12094162 | CZ24: 46.1 | DD24: 8420162 | DL24: 7310144 | DW24: 51.6
B25: (一般財源計) | R25: 15643308 | Z25: 58.5 | AD25: 14031420 | AL25: 99.4 | AP25: 法定外目的税 | BG25: - | BO25: - | BS25: - | CD25: 人件費 | CR25: 4518366 | CZ25: 17.2 | DD25: 4098031 | DL25: 3864427 | DW25: 27.3
B26: 交通安全対策特別交付金 | R26: 3783 | Z26: 0 | AD26: 3783 | AL26: 0 | AP26: 旧法による税 | BG26: - | BO26: - | BS26: - | CD26: うち職員給 | CR26: 2389350 | CZ26: 9.1 | DD26: 2154670 | DL26: - | DW26: -
B27: 分担金・負担金 | R27: 161074 | Z27: 0.6 | AD27: - | AL27: - | AP27: 合計 | BG27: 7146300 | BO27: 100 | BS27: 105657 | CD27: 扶助費 | CR27: 5327068 | CZ27: 20.3 | DD27: 2080928 | DL27: 1205714 | DW27: 8.5
B28: 使用料 | R28: 223058 | Z28: 0.8 | AD28: 33944 | AL28: 0.2 | CD28: 公債費 | CR28: 2248728 | CZ28: 8.6 | DD28: 2241203 | DL28: 2240003 | DW28: 15.8
B29: 手数料 | R29: 114560 | Z29: 0.4 | AD29: 1 | AL29: 0 | CD29: 内訳 | CF29: 元利償還金 | CR29: 2244696 | CZ29: 8.6 | DD29: 2237171 | DL29: 2235971 | DW29: 15.8
B30: 国庫支出金 | R30: 3985643 | Z30: 14.9 | AD30: - | AL30: - | AP30: 区分 | BG30: 令和6年度 | BR30: 令和5年度 | CF30: うち元金 | CR30: 2113342 | CZ30: 8.1 | DD30: 2107202 | DL30: 2106002 | DW30: 14.9
B31: 国有提供交付金(特別区財調交付金) | R31: - | Z31: - | AD31: - | AL31: - | AP31: 徴収率 (％) | AT31: 現年 | AX31: 合計 | BG31: 99.5 | BM31: 98.4 | BR31: 99.5 | BX31: 98.4 | CF31: うち利子 | CR31: 131354 | CZ31: 0.5 | DD31: 129969 | DL31: 129969 | DW31: 0.9
B32: 都道府県支出金 | R32: 1611359 | Z32: 6 | AD32: - | AL32: - | AU32: ・計 | AX32: 市町村民税 | BG32: 99.5 | BM32: 98.5 | BR32: 99.3 | BX32: 98.4 | CF32: 一時借入金利子 | CR32: 4032 | CZ32: 0 | DD32: 4032 | DL32: 4032 | DW32: 0
B33: 財産収入 | R33: 73617 | Z33: 0.3 | AD33: 44418 | AL33: 0.3 | AX33: 純固定資産税 | BG33: 99.5 | BM33: 98.3 | BR33: 99.6 | BX33: 98.3 | CD33: その他の経費 | CR33: 11284550 | CZ33: 43 | DD33: 8329304 | DL33: 6465878 | DW33: 45.6
B34: 寄附金 | R34: 584516 | Z34: 2.2 | AD34: - | AL34: - | CD34: 物件費 | CR34: 3312194 | CZ34: 12.6 | DD34: 2332354 | DL34: 1752719 | DW34: 12.4
B35: 繰入金 | R35: 1032025 | Z35: 3.9 | AD35: - | AL35: - | AQ35: 公営事業等への繰出 | BG35: 国民健康保険事業会計の状況 | CD35: 維持補修費 | CR35: 332683 | CZ35: 1.3 | DD35: 264648 | DL35: 264637 | DW35: 1.9
B36: 繰越金 | R36: 241284 | Z36: 0.9 | AD36: - | AL36: - | AQ36: 合計 | AZ36: 3554111 | BG36: 実質収支 | BV36: 64671 | CD36: 補助費等 | CR36: 4728292 | CZ36: 18 | DD36: 3563996 | DL36: 2571211 | DW36: 18.1
B37: 諸収入 | R37: 304892 | Z37: 1.1 | AD37: 1172 | AL37: 0 | AQ37: 下水道 | AZ37: 713850 | BG37: 再差引収支 | BV37: -17385 | CD37: うち一部事務組合負担金 | CR37: 2265079 | CZ37: 8.6 | DD37: 1458077 | DL37: 1252823 | DW37: 8.8
B38: 地方債 | R38: 2783469 | Z38: 10.4 | AD38: - | AL38: - | AQ38: 病院 | AZ38: 471830 | BG38: 加入世帯数(世帯) | BV38: 5865 | CD38: 繰出金 | CR38: 2353888 | CZ38: 9 | DD38: 1963289 | DL38: 1877311 | DW38: 13.3
B39: うち減収補塡債(特例分) | R39: - | Z39: - | AD39: - | AL39: - | AQ39: 上水道 | AZ39: 14543 | BG39: 被保険者数(人) | BV39: 8518 | CD39: 積立金 | CR39: 449489 | CZ39: 1.7 | DD39: 117013 | DL39: - | DW39: -
B40: うち臨時財政対策債 | R40: 51869 | Z40: 0.2 | AD40: - | AL40: - | AQ40: 工業用水道 | AZ40: - | BG40: 被保険者 1人当り | BM40: 保険税(料)収入額 | BV40: 92 | CD40: 投資・出資金・貸付金 | CR40: 108004 | CZ40: 0.4 | DD40: 88004 | DL40: - | DW40: -
...

Sheet 各会計、関係団体の財政状況及び健全化判断比率
A2: (2)各会計、関係団体の財政状況及び健全化判断比率（市町村） | DJ2: 令和6年度 | DQ2: 岡山県笠岡市
A4: 一般会計等の財政状況（単位：百万円） | BQ4: 地方公社・第三セクター等の経営状況及び地方公共団体の財政的支援の状況（単位：百万円）
A5: 会計名 | Q5: 歳入 | V5: 歳出 | AA5: 形式収支 | AF5: 実質収支 | AK5: 他会計等 からの 繰入金 | AP5: 地方債 現在高 | AU5: 備考 | BQ5: 地方公社・第三セクター等名 | CH5: 経常損益 | CM5: 純資産又は 正味財産 | CR5: 当該団体 からの 出資金 | CW5: 当該団体 からの 補助金 | DB5: 当該団体 からの 貸付金 | DG5: 当該団体からの債務保証に係る債務残高 | DL5: 当該団体からの損失補償に係る債務残高 | DQ5: 一般会計等 負担見込額 | DV5: 備考
A7: 1 | B7: 一般会計 | Q7: 26777 | V7: 26267 | AA7: 510 | AF7: 479 | AK7: 1031 | AP7: 28773 | BQ7: 1 | BS7: 笠岡市総合福祉事業団吸江社 | CH7: -2 | CM7: 5 | CR7: 30 | CW7: - | DB7: - | DG7: - | DL7: - | DQ7: -
A8: 2 | B8: 笠岡市へき地診療施設特別会計 | Q8: 24 | V8: 21 | AA8: 4 | AF8: 4 | AK8: 9 | AP8: 3 | BQ8: 2 | BS8: 笠岡市文化スポーツ振興財団 | CH8: 1 | CM8: 326 | CR8: 316 | CW8: - | DB8: - | DG8: - | DL8: - | DQ8: -
A9: 3 | B9: 笠岡市公共用地取得事業特別会計 | Q9: - | V9: - | AA9: - | AF9: - | AK9: - | AP9: - | BQ9: 3 | BS9: 笠岡放送（株） | CH9: 34 | CM9: 84 | CR9: 2 | CW9: - | DB9: - | DG9: - | DL9: - | DQ9: -
A10: 4 | BQ10: 4
A11: 5 | BQ11: 5
A12: 6 | BQ12: 6
A13: 7 | BQ13: 7
A14: 8 | BQ14: 8
A15: 9 | BQ15: 9
A16: 10 | BQ16: 10
A17: 11 | BQ17: 11
A18: 12 | BQ18: 12
A19: 13 | BQ19: 13
A20: 14 | BQ20: 14
A21: 15 | BQ21: 15
A22: 16 | AZ22: 実質赤字額 | BQ22: 16
A23: 計 | B23: 一般会計等（純計） | Q23: 26763 | V23: 26249 | AA23: 513 | AF23: 482 | AP23: 28777 | AZ23: - | BQ23: 17
A24: ※一般会計等（純計）は、各会計の相互間の繰入・繰出等の重複を控除したものであり、各会計の合計と一致しない場合がある。 | BQ24: 18
A25: 公営企業会計等の財政状況（単位：百万円） | BQ25: 19
A26: 会計名 | Q26: 総収益 （歳入） | V26: 総費用 （歳出） | AA26: 純損益 （形式収支） | AF26: 資金剰余額 /不足額 （実質収支） | AK26: 他会計等 からの 繰入金 | AP26: 企業債 （地方債） 現在高 | AU26: 左のうち 一般会計等 繰入見込額 | AZ26: 資金不足 比率 | BE26: 備考 | BQ26: 20
BQ27: 21
A28: 1 | B28: 笠岡市国民健康保険事業特別会計 | Q28: 5069 | V28: 5004 | AA28: 65 | AF28: 65 | AK28: 478 | AP28: - | AU28: - | AZ28: - | BQ28: 22
A29: 2 | B29: 笠岡市国民健康保険真鍋島直営診療施設特別会計 | Q29: 34 | V29: 31 | AA29: 3 | AF29: 3 | AK29: 19 | AZ29: - | BQ29: 23
A30: 3 | B30: 笠岡市介護保険事業特別会計 | Q30: 6433 | V30: 6293 | AA30: 140 | AF30: 140 | AK30: 1029 | AP30: - | AU30: - | AZ30: - | BQ30: 24
A31: 4 | B31: 笠岡市後期高齢者医療特別会計 | Q31: 914 | V31: 911 | AA31: 3 | AF31: 3 | AK31: 220 | AP31: - | AU31: - | AZ31: - | BQ31: 25
A32: 5 | B32: 笠岡市水道事業会計 | Q32: 1273 | V32: 1142 | AA32: 132 | AF32: 1262 | AK32: 14 | AP32: 881 | AU32: 210 | AZ32: - | BE32: 法適用企業 | BQ32: 26
A33: 6 | B33: 笠岡市病院事業会計 | Q33: 1954 | V33: 1923 | AA33: 31 | AF33: 678 | AK33: 472 | AP33: 348 | AU33: 216 | AZ33: - | BE33: 法適用企業 | BQ33: 27
A34: 7 | B34: 笠岡市下水道事業会計 | Q34: =1395+67+26 -> 1488 | V34: =1340+80+35 -> 1455 | AA34: =55-13-9 -> 33 | AF34: 125 | AK34: =649+55+14 -> 718 | AP34: =7647+1596+145 -> 9388 | AU34: 4393 | AZ34: - | BE34: 法適用企業 | BQ34: 28
A35: 8 | B35: 笠岡市土地造成事業特別会計 | Q35: - | V35: - | AA35: - | AF35: - | AK35: - | AP35: - | AU35: - | AZ35: - | BE35: 法非適用企業 | BQ35: 29
A36: 9 | B36: 笠岡市工業団地造成事業特別会計 | Q36: - | V36: - | AA36: - | AF36: - | AK36: - | AP36: - | AU36: - | AZ36: - | BE36: 法非適用企業 | BQ36: 30
A37: 10 | BQ37: 31
A38: 11 | BQ38: 32
A39: 12 | BQ39: 33
A40: 13 | BQ40: 34
A41: 14 | BQ41: 35
A42: 15 | BQ42: 36
A43: 16 | BQ43: 37
...

Sheet 財政比較分析表

Sheet 経常経費分析表（経常収支比率の分析）

Sheet 経常経費分析表（人件費・公債費・普通建設事業費の分析）
A5: 人件費及び人件費に準ずる費用の分析
AK6: 人件費及び人件費に準ずる費用
AO7: 当該団体決算額 （千円） | AQ7: 人口1人当たり決算額
AP8: 当該団体（円） | AQ8: 類似団体平均（円） | AR8: 対比（％）
AK9: 人件費 | AO9: 4518366 | AP9: 102620 | AQ9: 98214 | AR9: 4.5
AK10: 一部事務組合負担金（補助費等） | AO10: 654327 | AP10: 14861 | AQ10: 8330 | AR10: 78.4
AK11: 公営企業（法適）等に対する繰出し（補助費等） | AO11: 122258 | AP11: 2777 | AQ11: 2236 | AR11: 24.2
AK12: 公営企業（法適）等に対する繰出し（投資及び出資金・貸付金） | AO12: - | AP12: - | AQ12: 12 | AR12: -
AK13: 公営企業（法非適）等に対する繰出し（繰出金） | AO13: 143226 | AP13: 3253 | AQ13: 3111 | AR13: 4.6
AK14: 事業費支弁に係る職員の人件費（投資的経費） | AO14: 88490 | AP14: 2010 | AQ14: 1882 | AR14: 6.8
AK15: ▲退職金 | AO15: -258223 | AP15: -5865 | AQ15: -6411 | AR15: -8.5
AK16: 合計 | AO16: 5268444 | AP16: 119656 | AQ16: 107373 | AR16: 11.4
AK19: 参考
AO20: 当該団体 | AP20: 類似団体平均 | AQ20: 対比（差引）
AK21: 人口1,000人当たり職員数（人） | AO21: 8.43 | AP21: 9.17 | AQ21: -0.74
AK22: ラスパイレス指数 | AO22: 99.5 | AP22: 97.5 | AQ22: 2
A26: （注）人口については、各調査対象年度の1月1日現在の住民基本台帳に登載されている人口に基づいている。
A28: 公債費及び公債費に準ずる費用の分析
AK29: 公債費及び公債費に準ずる費用（実質公債費比率の構成要素）
AO30: 当該団体決算額 （千円） | AQ30: 人口1人当たり決算額
AP31: 当該団体（円） | AQ31: 類似団体平均（円） | AR31: 対比（％）
AK32: 元利償還金の額 （繰上償還額等を除く） | AO32: 2244696 | AP32: 50981 | AQ32: 55954 | AR32: -8.9
AK33: 積立不足額を考慮して算定した額 | AO33: - | AP33: - | AQ33: - | AR33: -
AK34: 満期一括償還地方債の一年当たりの元金償還金に相当するもの （年度割相当額） | AO34: - | AP34: - | AQ34: 1 | AR34: -
AK35: 公営企業に要する経費の財源とする地方債の償還の財源に 充てたと認められる繰入金 | AO35: 470248 | AP35: 10680 | AQ35: 17691 | AR35: -39.6
AK36: 一部事務組合等の起こした地方債に充てたと認められる 補助金又は負担金 | AO36: 85734 | AP36: 1947 | AQ36: 2603 | AR36: -25.2
AK37: 公債費に準ずる債務負担行為に係るもの | AO37: 131902 | AP37: 2996 | AQ37: 579 | AR37: 417.4
AK38: 一時借入金利子 （同一団体における会計間の現金運用に係る利子は除く） | AO38: - | AP38: - | AQ38: 4 | AR38: -
AK39: ▲特定財源の額 | AO39: -298208 | AP39: -6773 | AQ39: -4663 | AR39: 45.2
AK40: ▲地方債に係る元利償還金及び準元利償還金に要する経費として 普通交付税の額の算定に用いる基準財政需要額に算入された額 | AO40: -1719652 | AP40: -39056 | AQ40: -48945 | AR40: -20.2
AK41: 合計 | AO41: 914720 | AP41: 20775 | AQ41: 23225 | AR41: -10.5
A47: （参考） 普通建設事業費の分析
AK48: 普通建設事業費
AM49: 当該団体決算額 （千円） | AN49: 人口１人当たり決算額
AN50: 当該団体(円) | AO50: 増減率(%)(A) | AP50: 類似団体平均(円) | AQ50: 増減率(%)(B) | AR50: (A)-(B)
AK51: R02 | AM51: 3016243 | AN51: 63958 | AO51: -7.8 | AP51: 76347 | AQ51: 22.4 | AR51: -30.2
AL52: うち単独分 | AM52: 2073812 | AN52: 43974 | AO52: 0.9 | AP52: 41762 | AQ52: 18.2 | AR52: -17.3
AK53: R03 | AM53: 2545044 | AN53: 55004 | AO53: -14 | AP53: 69604 | AQ53: -8.8 | AR53: -5.2
AL54: うち単独分 | AM54: 1652779 | AN54: 35720 | AO54: -18.8 | AP54: 36247 | AQ54: -13.2 | AR54: -5.6
AK55: R04 | AM55: 2975441 | AN55: 65345 | AO55: 18.8 | AP55: 68410 | AQ55: -1.7 | AR55: 20.5
...

Sheet 性質別歳出決算分析表（住民一人当たりのコスト）

Sheet 目的別歳出決算分析表（住民一人当たりのコスト）

Sheet 実質収支比率等に係る経年分析
J45: 標準財政規模比（％）
B46: 区分 | E46: 年度 | F46: R02 | G46: R03 | H46: R04 | I46: R05 | J46: R06
C47: 財政調整基金残高 | F47: 3.94 | G47: 7.22 | H47: 9.82 | I47: 8.04 | J47: 4.93
C48: 実質収支額 | F48: 3.46 | G48: 5.86 | H48: 4.81 | I48: 2.49 | J48: 3.51
C49: 実質単年度収支 | F49: ▲ 3.26 | G49: 4.58 | H49: ▲ 2.11 | I49: ▲ 6.49 | J49: ▲ 3.19

Sheet 連結実質赤字比率に係る赤字・黒字の構成分析
J32: 標準財政規模比（％）
B33: 会計 | E33: 年度 | F33: R02 | G33: R03 | H33: R04 | I33: R05 | J33: R06
C34: 笠岡市水道事業会計 | F34: 12.65 | G34: 11.79 | H34: 12.1 | I34: 10.72 | J34: 9.18
C35: 笠岡市病院事業会計 | F35: 0 | G35: 0 | H35: 2.92 | I35: 4.92 | J35: 4.93
C36: 一般会計 | F36: 3.45 | G36: 5.85 | H36: 4.79 | I36: 2.48 | J36: 3.48
C37: 笠岡市介護保険事業特別会計 | F37: 1.18 | G37: 1.47 | H37: 1.65 | I37: 0.76 | J37: 1.01
C38: 笠岡市下水道事業会計 | F38: 0.75 | G38: 0.74 | H38: 0 | I38: 0.41 | J38: 0.91
C39: 笠岡市国民健康保険事業特別会計 | F39: 0.73 | G39: 0.91 | H39: 0.38 | I39: 0.35 | J39: 0.47
C40: 笠岡市へき地診療施設特別会計 | F40: 0 | G40: 0 | H40: 0.01 | I40: 0 | J40: 0.02
C41: 笠岡市後期高齢者医療特別会計 | F41: 0.01 | G41: 0.02 | H41: 0.03 | I41: 0.04 | J41: 0.02
C42: その他会計（赤字） | F42: - | G42: - | H42: - | I42: - | J42: -
C43: その他会計（黒字） | F43: 0.03 | G43: 0.01 | H43: 0 | I43: 0.01 | J43: 0.01

Sheet 実質公債費比率（分子）の構造
O43: （百万円）
B44: 分子の構造 | J44: 年度 | K44: R02 | L44: R03 | M44: R04 | N44: R05 | O44: R06
B45: 元利償還金等(A) | E45: 元利償還金 | K45: 2106 | L45: 2237 | M45: 2303 | N45: 2305 | O45: 2245
E46: 減債基金積立不足算定額※2 | K46: - | L46: - | M46: - | N46: - | O46: -
E47: 満期一括償還地方債に係る年度割相当額 | K47: - | L47: - | M47: - | N47: - | O47: -
E48: 公営企業債の元利償還金に対する繰入金 | K48: 656 | L48: 537 | M48: 523 | N48: 500 | O48: 470
E49: 組合等が起こした地方債の元利償還金に対する負担金等 | K49: 163 | L49: 159 | M49: 156 | N49: 142 | O49: 86
E50: 債務負担行為に基づく支出額 | K50: 58 | L50: 57 | M50: 93 | N50: 80 | O50: 132
E51: 一時借入金の利子 | K51: - | L51: - | M51: - | N51: - | O51: -
B52: 算入公債費等(B) | E52: 算入公債費等 | K52: 2219 | L52: 2196 | M52: 2109 | N52: 2011 | O52: 2018
B53: (A)－(B) | E53: 実質公債費比率の分子 | K53: 764 | L53: 794 | M53: 966 | N53: 1016 | O53: 915
B54: ※ 減債基金積立不足算定額=(C)×(１－(D)/(E))
B56: （参考） | O56: （百万円）
J57: 年度 | K57: R02 | L57: R03 | M57: R04 | N57: R05 | O57: R06
B58: 減債基金 積立状況等（注） | D58: 満期一括償還地方債に係る実質償還額又は理論償還額のいずれか少ない額(C)
D59: 前年度末減債基金残高(D)
D60: 前年度末減債基金積立相当額(E)
D61: （注）減債基金のうち、実質公債費比率の算定に用いる満期一括償還地方債の償還の財源に係るもののみを記入。
D62: 減債基金積立金の年度を超えた一般会計又は特別会計への貸付額は控除して記入。

Sheet 将来負担比率（分子）の構造
M39: （百万円）
B40: 分子の構造 | H40: 年度 | I40: R02 | J40: R03 | K40: R04 | L40: R05 | M40: R06
B41: 将来負担額(A) | E41: 一般会計等に係る地方債の現在高 | I41: 26613 | J41: 27449 | K41: 27442 | L41: 28106 | M41: 28777
E42: 債務負担行為に基づく支出予定額 | I42: 457 | J42: 419 | K42: 517 | L42: 542 | M42: 404
E43: 公営企業債等繰入見込額 | I43: 6941 | J43: 6123 | K43: 5718 | L43: 5103 | M43: 4820
E44: 組合等負担等見込額 | I44: 655 | J44: 502 | K44: 384 | L44: 251 | M44: 370
E45: 退職手当負担見込額 | I45: 2936 | J45: 2993 | K45: 3049 | L45: 3066 | M45: 3257
E46: 設立法人等の負債額等負担見込額 | I46: - | J46: 1 | K46: 2 | L46: 3 | M46: 1
E47: うち、健全化法施行規則附則第三条に係る負担見込額 | I47: - | J47: - | K47: - | L47: - | M47: -
E48: 連結実質赤字額 | I48: - | J48: - | K48: - | L48: - | M48: -
E49: 組合等連結実質赤字額負担見込額 | I49: - | J49: - | K49: - | L49: - | M49: -
B50: 充当可能財源等(B) | E50: 充当可能基金 | I50: 2485 | J50: 3577 | K50: 4100 | L50: 3986 | M50: 3722
E51: 充当可能特定歳入 | I51: 5440 | J51: 5607 | K51: 5546 | L51: 6338 | M51: 6176
E52: 基準財政需要額算入見込額 | I52: 22885 | J52: 22165 | K52: 21514 | L52: 21057 | M52: 20800
B53: (A)－(B) | E53: 将来負担比率の分子 | I53: 6792 | J53: 6138 | K53: 5954 | L53: 5690 | M53: 6932

Sheet 基金残高に係る経年分析
H53: （百万円）
B54: 区分 | E54: 年度 | F54: R04 | G54: R05 | H54: R06
C55: 財政調整基金 | F55: 1318 | G55: 1089 | H55: 677
C56: 減債基金 | F56: 237 | G56: 299 | H56: 343
C57: その他特定目的基金 | F57: 983 | G57: 1293 | H57: 1250
C58: ふるさと笠岡思民基金 | F58: 262 | G58: 215 | H58: 313
C59: こども教育振興基金 | F59: 21 | G59: 313 | H59: 302
C60: 公共施設整備費引当基金 | F60: 203 | G60: 216 | H60: 232
C61: 退職手当準備基金 | F61: 194 | G61: 243 | H61: 108
C62: 藤井育英会奨学基金 | F62: 68 | G62: 68 | H62: 67
C63: 基金残高合計 | F63: 2538 | G63: 2680 | H63: 2271

Sheet データシート
D2: 当該団体(円) | F2: 類似団体内平均(円)
A3: R02 | D3: 63958 | F3: 76347
D4: 43974 | F4: 41762
A5: R03 | D5: 55004 | F5: 69604
D6: 35720 | F6: 36247
A7: R04 | D7: 65345 | F7: 68410
D8: 38263 | F8: 35086
A9: R05 | D9: 57080 | F9: 73019
D10: 34927 | F10: 39427
A11: R06 | D11: 65091 | F11: 76590
D12: 42069 | F12: 42387
D13: 61296 | F13: 72794
D14: 38991 | F14: 38982
A17: 実質収支比率等に係る経年分析
B18: =実質収支比率等に係る経年分析!F$46 -> R02 | C18: =実質収支比率等に係る経年分析!G$46 -> R03 | D18: =実質収支比率等に係る経年分析!H$46 -> R04 | E18: =実質収支比率等に係る経年分析!I$46 -> R05 | F18: =実質収支比率等に係る経年分析!J$46 -> R06
A19: 実質収支額 | B19: =ROUND(VALUE(SUBSTITUTE(実質収支比率等に係る経年分析!F$48,"▲","-")),2) -> 3.46 | C19: =ROUND(VALUE(SUBSTITUTE(実質収支比率等に係る経年分析!G$48,"▲","-")),2) -> 5.86 | D19: =ROUND(VALUE(SUBSTITUTE(実質収支比率等に係る経年分析!H$48,"▲","-")),2) -> 4.81 | E19: =ROUND(VALUE(SUBSTITUTE(実質収支比率等に係る経年分析!I$48,"▲","-")),2) -> 2.49 | F19: =ROUND(VALUE(SUBSTITUTE(実質収支比率等に係る経年分析!J$48,"▲","-")),2) -> 3.51
A20: 財政調整基金残高 | B20: =ROUND(VALUE(SUBSTITUTE(実質収支比率等に係る経年分析!F$47,"▲","-")),2) -> 3.94 | C20: =ROUND(VALUE(SUBSTITUTE(実質収支比率等に係る経年分析!G$47,"▲","-")),2) -> 7.22 | D20: =ROUND(VALUE(SUBSTITUTE(実質収支比率等に係る経年分析!H$47,"▲","-")),2) -> 9.82 | E20: =ROUND(VALUE(SUBSTITUTE(実質収支比率等に係る経年分析!I$47,"▲","-")),2) -> 8.04 | F20: =ROUND(VALUE(SUBSTITUTE(実質収支比率等に係る経年分析!J$47,"▲","-")),2) -> 4.93
A21: 実質単年度収支 | B21: =IF(ISNUMBER(VALUE(SUBSTITUTE(実質収支比率等に係る経年分析!F$49,"▲","-"))),ROUND(VALUE(SUBSTITUTE(実質収支比率等に係る経年分析!F$49,"▲","-")),2),NA()) -> -3.26 | C21: =IF(ISNUMBER(VALUE(SUBSTITUTE(実質収支比率等に係る経年分析!G$49,"▲","-"))),ROUND(VALUE(SUBSTITUTE(実質収支比率等に係る経年分析!G$49,"▲","-")),2),NA()) -> 4.58 | D21: =IF(ISNUMBER(VALUE(SUBSTITUTE(実質収支比率等に係る経年分析!H$49,"▲","-"))),ROUND(VALUE(SUBSTITUTE(実質収支比率等に係る経年分析!H$49,"▲","-")),2),NA()) -> -2.11 | E21: =IF(ISNUMBER(VALUE(SUBSTITUTE(実質収支比率等に係る経年分析!I$49,"▲","-"))),ROUND(VALUE(SUBSTITUTE(実質収支比率等に係る経年分析!I$49,"▲","-")),2),NA()) -> -6.49 | F21: =IF(ISNUMBER(VALUE(SUBSTITUTE(実質収支比率等に係る経年分析!J$49,"▲","-"))),ROUND(VALUE(SUBSTITUTE(実質収支比率等に係る経年分析!J$49,"▲","-")),2),NA()) -> -3.19
A24: 連結実質赤字比率に係る赤字・黒字の構成分析
B25: ='連結実質赤字比率に係る赤字・黒字の構成分析'!F$33 -> R02 | D25: ='連結実質赤字比率に係る赤字・黒字の構成分析'!G$33 -> R03 | F25: ='連結実質赤字比率に係る赤字・黒字の構成分析'!H$33 -> R04 | H25: ='連結実質赤字比率に係る赤字・黒字の構成分析'!I$33 -> R05 | J25: ='連結実質赤字比率に係る赤字・黒字の構成分析'!J$33 -> R06
B26: 赤字額 | C26: 黒字額 | D26: 赤字額 | E26: 黒字額 | F26: 赤字額 | G26: 黒字額 | H26: 赤字額 | I26: 黒字額 | J26: 赤字額 | K26: 黒字額
A27: =IF('連結実質赤字比率に係る赤字・黒字の構成分析'!C$43="",NA(),'連結実質赤字比率に係る赤字・黒字の構成分析'!C$43) -> その他会計（黒字） | B27: =IF(ROUND(VALUE(SUBSTITUTE('連結実質赤字比率に係る赤字・黒字の構成分析'!F$43,"▲","-")),2)<0,ABS(ROUND(VALUE(SUBSTITUTE('連結実質赤字比率に係る赤字・黒字の構成分析'!F$43,"▲","-")),2)),NA()) -> #N/A | C27: =IF(ROUND(VALUE(SUBSTITUTE('連結実質赤字比率に係る赤字・黒字の構成分析'!F$43,"▲","-")),2)>=0,ABS(ROUND(VALUE(SUBSTITUTE('連結実質赤字比率に係る赤字・黒字の構成分析'!F$43,"▲","-")),2)),NA()) -> 0.03 | D27: =IF(ROUND(VALUE(SUBSTITUTE('連結実質赤字比率に係る赤字・黒字の構成分析'!G$43,"▲","-")),2)<0,ABS(ROUND(VALUE(SUBSTITUTE('連結実質赤字比率に係る赤字・黒字の構成分析'!G$43,"▲","-")),2)),NA()) -> #N/A | E27: =IF(ROUND(VALUE(SUBSTITUTE('連結実質赤字比率に係る赤字・黒字の構成分析'!G$43,"▲","-")),2)>=0,ABS(ROUND(VALUE(SUBSTITUTE('連結実質赤字比率に係る赤字・黒字の構成分析'!G$43,"▲","-")),2)),NA()) -> 0.01 | F27: =IF(ROUND(VALUE(SUBSTITUTE('連結実質赤字比率に係る赤字・黒字の構成分析'!H$43,"▲","-")),2)<0,ABS(ROUND(VALUE(SUBSTITUTE('連結実質赤字比率に係る赤字・黒字の構成分析'!H$43,"▲","-")),2)),NA()) -> #N/A | G27: =IF(ROUND(VALUE(SUBSTITUTE('連結実質赤字比率に係る赤字・黒字の構成分析'!H$43,"▲","-")),2)>=0,ABS(ROUND(VALUE(SUBSTITUTE('連結実質赤字比率に係る赤字・黒字の構成分析'!H$43,"▲","-")),2)),NA()) -> 0 | H27: =IF(ROUND(VALUE(SUBSTITUTE('連結実質赤字比率に係る赤字・黒字の構成分析'!I$43,"▲","-")),2)<0,ABS(ROUND(VALUE(SUBSTITUTE('連結実質赤字比率に係る赤字・黒字の構成分析'!I$43,"▲","-")),2)),NA()) -> #N/A | I27: =IF(ROUND(VALUE(SUBSTITUTE('連結実質赤字比率に係る赤字・黒字の構成分析'!I$43,"▲","-")),2)>=0,ABS(ROUND(VALUE(SUBSTITUTE('連結実質赤字比率に係る赤字・黒字の構成分析'!I$43,"▲","-")),2)),NA()) -> 0.01 | J27: =IF(ROUND(VALUE(SUBSTITUTE('連結実質赤字比率に係る赤字・黒字の構成分析'!J$43,"▲","-")),2)<0,ABS(ROUND(VALUE(SUBSTITUTE('連結実質赤字比率に係る赤字・黒字の構成分析'!J$43,"▲","-")),2)),NA()) -> #N/A | K27: =IF(ROUND(VALUE(SUBSTITUTE('連結実質赤字比率に係る赤字・黒字の構成分析'!J$43,"▲","-")),2)>=0,ABS(ROUND(VALUE(SUBSTITUTE('連結実質赤字比率に係る赤字・黒字の構成分析'!J$43,"▲","-")),2)),NA()) -> 0.01
A28: =IF('連結実質赤字比率に係る赤字・黒字の構成分析'!C$42="",NA(),'連結実質赤字比率に係る赤字・黒字の構成分析'!C$42) -> その他会計（赤字） | B28: =IF(ROUND(VALUE(SUBSTITUTE('連結実質赤字比率に係る赤字・黒字の構成分析'!F$42,"▲","-")),2)<0,ABS(ROUND(VALUE(SUBSTITUTE('連結実質赤字比率に係る赤字・黒字の構成分析'!F$42,"▲","-")),2)),NA()) -> #VALUE! | C28: =IF(ROUND(VALUE(SUBSTITUTE('連結実質赤字比率に係る赤字・黒字の構成分析'!F$42,"▲","-")),2)>=0,ABS(ROUND(VALUE(SUBSTITUTE('連結実質赤字比率に係る赤字・黒字の構成分析'!F$42,"▲","-")),2)),NA()) -> #VALUE! | D28: =IF(ROUND(VALUE(SUBSTITUTE('連結実質赤字比率に係る赤字・黒字の構成分析'!G$42,"▲","-")),2)<0,ABS(ROUND(VALUE(SUBSTITUTE('連結実質赤字比率に係る赤字・黒字の構成分析'!G$42,"▲","-")),2)),NA()) -> #VALUE! | E28: =IF(ROUND(VALUE(SUBSTITUTE('連結実質赤字比率に係る赤字・黒字の構成分析'!G$42,"▲","-")),2)>=0,ABS(ROUND(VALUE(SUBSTITUTE('連結実質赤字比率に係る赤字・黒字の構成分析'!G$42,"▲","-")),2)),NA()) -> #VALUE! | F28: =IF(ROUND(VALUE(SUBSTITUTE('連結実質赤字比率に係る赤字・黒字の構成分析'!H$42,"▲","-")),2)<0,ABS(ROUND(VALUE(SUBSTITUTE('連結実質赤字比率に係る赤字・黒字の構成分析'!H$42,"▲","-")),2)),NA()) -> #VALUE! | G28: =IF(ROUND(VALUE(SUBSTITUTE('連結実質赤字比率に係る赤字・黒字の構成分析'!H$42,"▲","-")),2)>=0,ABS(ROUND(VALUE(SUBSTITUTE('連結実質赤字比率に係る赤字・黒字の構成分析'!H$42,"▲","-")),2)),NA()) -> #VALUE! | H28: =IF(ROUND(VALUE(SUBSTITUTE('連結実質赤字比率に係る赤字・黒字の構成分析'!I$42,"▲","-")),2)<0,ABS(ROUND(VALUE(SUBSTITUTE('連結実質赤字比率に係る赤字・黒字の構成分析'!I$42,"▲","-")),2)),NA()) -> #VALUE! | I28: =IF(ROUND(VALUE(SUBSTITUTE('連結実質赤字比率に係る赤字・黒字の構成分析'!I$42,"▲","-")),2)>=0,ABS(ROUND(VALUE(SUBSTITUTE('連結実質赤字比率に係る赤字・黒字の構成分析'!I$42,"▲","-")),2)),NA()) -> #VALUE! | J28: =IF(ROUND(VALUE(SUBSTITUTE('連結実質赤字比率に係る赤字・黒字の構成分析'!J$42,"▲","-")),2)<0,ABS(ROUND(VALUE(SUBSTITUTE('連結実質赤字比率に係る赤字・黒字の構成分析'!J$42,"▲","-")),2)),NA()) -> #VALUE! | K28: =IF(ROUND(VALUE(SUBSTITUTE('連結実質赤字比率に係る赤字・黒字の構成分析'!J$42,"▲","-")),2)>=0,ABS(ROUND(VALUE(SUBSTITUTE('連結実質赤字比率に係る赤字・黒字の構成分析'!J$42,"▲","-")),2)),NA()) -> #VALUE!
A29: =IF('連結実質赤字比率に係る赤字・黒字の構成分析'!C$41="",NA(),'連結実質赤字比率に係る赤字・黒字の構成分析'!C$41) -> 笠岡市後期高齢者医療特別会計 | B29: =IF(ROUND(VALUE(SUBSTITUTE('連結実質赤字比率に係る赤字・黒字の構成分析'!F$41,"▲","-")),2)<0,ABS(ROUND(VALUE(SUBSTITUTE('連結実質赤字比率に係る赤字・黒字の構成分析'!F$41,"▲","-")),2)),NA()) -> #N/A | C29: =IF(ROUND(VALUE(SUBSTITUTE('連結実質赤字比率に係る赤字・黒字の構成分析'!F$41,"▲","-")),2)>=0,ABS(ROUND(VALUE(SUBSTITUTE('連結実質赤字比率に係る赤字・黒字の構成分析'!F$41,"▲","-")),2)),NA()) -> 0.01 | D29: =IF(ROUND(VALUE(SUBSTITUTE('連結実質赤字比率に係る赤字・黒字の構成分析'!G$41,"▲","-")),2)<0,ABS(ROUND(VALUE(SUBSTITUTE('連結実質赤字比率に係る赤字・黒字の構成分析'!G$41,"▲","-")),2)),NA()) -> #N/A | E29: =IF(ROUND(VALUE(SUBSTITUTE('連結実質赤字比率に係る赤字・黒字の構成分析'!G$41,"▲","-")),2)>=0,ABS(ROUND(VALUE(SUBSTITUTE('連結実質赤字比率に係る赤字・黒字の構成分析'!G$41,"▲","-")),2)),NA()) -> 0.02 | F29: =IF(ROUND(VALUE(SUBSTITUTE('連結実質赤字比率に係る赤字・黒字の構成分析'!H$41,"▲","-")),2)<0,ABS(ROUND(VALUE(SUBSTITUTE('連結実質赤字比率に係る赤字・黒字の構成分析'!H$41,"▲","-")),2)),NA()) -> #N/A | G29: =IF(ROUND(VALUE(SUBSTITUTE('連結実質赤字比率に係る赤字・黒字の構成分析'!H$41,"▲","-")),2)>=0,ABS(ROUND(VALUE(SUBSTITUTE('連結実質赤字比率に係る赤字・黒字の構成分析'!H$41,"▲","-")),2)),NA()) -> 0.03 | H29: =IF(ROUND(VALUE(SUBSTITUTE('連結実質赤字比率に係る赤字・黒字の構成分析'!I$41,"▲","-")),2)<0,ABS(ROUND(VALUE(SUBSTITUTE('連結実質赤字比率に係る赤字・黒字の構成分析'!I$41,"▲","-")),2)),NA()) -> #N/A | I29: =IF(ROUND(VALUE(SUBSTITUTE('連結実質赤字比率に係る赤字・黒字の構成分析'!I$41,"▲","-")),2)>=0,ABS(ROUND(VALUE(SUBSTITUTE('連結実質赤字比率に係る赤字・黒字の構成分析'!I$41,"▲","-")),2)),NA()) -> 0.04 | J29: =IF(ROUND(VALUE(SUBSTITUTE('連結実質赤字比率に係る赤字・黒字の構成分析'!J$41,"▲","-")),2)<0,ABS(ROUND(VALUE(SUBSTITUTE('連結実質赤字比率に係る赤字・黒字の構成分析'!J$41,"▲","-")),2)),NA()) -> #N/A | K29: =IF(ROUND(VALUE(SUBSTITUTE('連結実質赤字比率に係る赤字・黒字の構成分析'!J$41,"▲","-")),2)>=0,ABS(ROUND(VALUE(SUBSTITUTE('連結実質赤字比率に係る赤字・黒字の構成分析'!J$41,"▲","-")),2)),NA()) -> 0.02
A30: =IF('連結実質赤字比率に係る赤字・黒字の構成分析'!C$40="",NA(),'連結実質赤字比率に係る赤字・黒字の構成分析'!C$40) -> 笠岡市へき地診療施設特別会計 | B30: =IF(ROUND(VALUE(SUBSTITUTE('連結実質赤字比率に係る赤字・黒字の構成分析'!F$40,"▲","-")),2)<0,ABS(ROUND(VALUE(SUBSTITUTE('連結実質赤字比率に係る赤字・黒字の構成分析'!F$40,"▲","-")),2)),NA()) -> #N/A | C30: =IF(ROUND(VALUE(SUBSTITUTE('連結実質赤字比率に係る赤字・黒字の構成分析'!F$40,"▲","-")),2)>=0,ABS(ROUND(VALUE(SUBSTITUTE('連結実質赤字比率に係る赤字・黒字の構成分析'!F$40,"▲","-")),2)),NA()) -> 0 | D30: =IF(ROUND(VALUE(SUBSTITUTE('連結実質赤字比率に係る赤字・黒字の構成分析'!G$40,"▲","-")),2)<0,ABS(ROUND(VALUE(SUBSTITUTE('連結実質赤字比率に係る赤字・黒字の構成分析'!G$40,"▲","-")),2)),NA()) -> #N/A | E30: =IF(ROUND(VALUE(SUBSTITUTE('連結実質赤字比率に係る赤字・黒字の構成分析'!G$40,"▲","-")),2)>=0,ABS(ROUND(VALUE(SUBSTITUTE('連結実質赤字比率に係る赤字・黒字の構成分析'!G$40,"▲","-")),2)),NA()) -> 0 | F30: =IF(ROUND(VALUE(SUBSTITUTE('連結実質赤字比率に係る赤字・黒字の構成分析'!H$40,"▲","-")),2)<0,ABS(ROUND(VALUE(SUBSTITUTE('連結実質赤字比率に係る赤字・黒字の構成分析'!H$40,"▲","-")),2)),NA()) -> #N/A | G30: =IF(ROUND(VALUE(SUBSTITUTE('連結実質赤字比率に係る赤字・黒字の構成分析'!H$40,"▲","-")),2)>=0,ABS(ROUND(VALUE(SUBSTITUTE('連結実質赤字比率に係る赤字・黒字の構成分析'!H$40,"▲","-")),2)),NA()) -> 0.01 | H30: =IF(ROUND(VALUE(SUBSTITUTE('連結実質赤字比率に係る赤字・黒字の構成分析'!I$40,"▲","-")),2)<0,ABS(ROUND(VALUE(SUBSTITUTE('連結実質赤字比率に係る赤字・黒字の構成分析'!I$40,"▲","-")),2)),NA()) -> #N/A | I30: =IF(ROUND(VALUE(SUBSTITUTE('連結実質赤字比率に係る赤字・黒字の構成分析'!I$40,"▲","-")),2)>=0,ABS(ROUND(VALUE(SUBSTITUTE('連結実質赤字比率に係る赤字・黒字の構成分析'!I$40,"▲","-")),2)),NA()) -> 0 | J30: =IF(ROUND(VALUE(SUBSTITUTE('連結実質赤字比率に係る赤字・黒字の構成分析'!J$40,"▲","-")),2)<0,ABS(ROUND(VALUE(SUBSTITUTE('連結実質赤字比率に係る赤字・黒字の構成分析'!J$40,"▲","-")),2)),NA()) -> #N/A | K30: =IF(ROUND(VALUE(SUBSTITUTE('連結実質赤字比率に係る赤字・黒字の構成分析'!J$40,"▲","-")),2)>=0,ABS(ROUND(VALUE(SUBSTITUTE('連結実質赤字比率に係る赤字・黒字の構成分析'!J$40,"▲","-")),2)),NA()) -> 0.02
A31: =IF('連結実質赤字比率に係る赤字・黒字の構成分析'!C$39="",NA(),'連結実質赤字比率に係る赤字・黒字の構成分析'!C$39) -> 笠岡市国民健康保険事業特別会計 | B31: =IF(ROUND(VALUE(SUBSTITUTE('連結実質赤字比率に係る赤字・黒字の構成分析'!F$39,"▲","-")),2)<0,ABS(ROUND(VALUE(SUBSTITUTE('連結実質赤字比率に係る赤字・黒字の構成分析'!F$39,"▲","-")),2)),NA()) -> #N/A | C31: =IF(ROUND(VALUE(SUBSTITUTE('連結実質赤字比率に係る赤字・黒字の構成分析'!F$39,"▲","-")),2)>=0,ABS(ROUND(VALUE(SUBSTITUTE('連結実質赤字比率に係る赤字・黒字の構成分析'!F$39,"▲","-")),2)),NA()) -> 0.73 | D31: =IF(ROUND(VALUE(SUBSTITUTE('連結実質赤字比率に係る赤字・黒字の構成分析'!G$39,"▲","-")),2)<0,ABS(ROUND(VALUE(SUBSTITUTE('連結実質赤字比率に係る赤字・黒字の構成分析'!G$39,"▲","-")),2)),NA()) -> #N/A | E31: =IF(ROUND(VALUE(SUBSTITUTE('連結実質赤字比率に係る赤字・黒字の構成分析'!G$39,"▲","-")),2)>=0,ABS(ROUND(VALUE(SUBSTITUTE('連結実質赤字比率に係る赤字・黒字の構成分析'!G$39,"▲","-")),2)),NA()) -> 0.91 | F31: =IF(ROUND(VALUE(SUBSTITUTE('連結実質赤字比率に係る赤字・黒字の構成分析'!H$39,"▲","-")),2)<0,ABS(ROUND(VALUE(SUBSTITUTE('連結実質赤字比率に係る赤字・黒字の構成分析'!H$39,"▲","-")),2)),NA()) -> #N/A | G31: =IF(ROUND(VALUE(SUBSTITUTE('連結実質赤字比率に係る赤字・黒字の構成分析'!H$39,"▲","-")),2)>=0,ABS(ROUND(VALUE(SUBSTITUTE('連結実質赤字比率に係る赤字・黒字の構成分析'!H$39,"▲","-")),2)),NA()) -> 0.38 | H31: =IF(ROUND(VALUE(SUBSTITUTE('連結実質赤字比率に係る赤字・黒字の構成分析'!I$39,"▲","-")),2)<0,ABS(ROUND(VALUE(SUBSTITUTE('連結実質赤字比率に係る赤字・黒字の構成分析'!I$39,"▲","-")),2)),NA()) -> #N/A | I31: =IF(ROUND(VALUE(SUBSTITUTE('連結実質赤字比率に係る赤字・黒字の構成分析'!I$39,"▲","-")),2)>=0,ABS(ROUND(VALUE(SUBSTITUTE('連結実質赤字比率に係る赤字・黒字の構成分析'!I$39,"▲","-")),2)),NA()) -> 0.35 | J31: =IF(ROUND(VALUE(SUBSTITUTE('連結実質赤字比率に係る赤字・黒字の構成分析'!J$39,"▲","-")),2)<0,ABS(ROUND(VALUE(SUBSTITUTE('連結実質赤字比率に係る赤字・黒字の構成分析'!J$39,"▲","-")),2)),NA()) -> #N/A | K31: =IF(ROUND(VALUE(SUBSTITUTE('連結実質赤字比率に係る赤字・黒字の構成分析'!J$39,"▲","-")),2)>=0,ABS(ROUND(VALUE(SUBSTITUTE('連結実質赤字比率に係る赤字・黒字の構成分析'!J$39,"▲","-")),2)),NA()) -> 0.47
A32: =IF('連結実質赤字比率に係る赤字・黒字の構成分析'!C$38="",NA(),'連結実質赤字比率に係る赤字・黒字の構成分析'!C$38) -> 笠岡市下水道事業会計 | B32: =IF(ROUND(VALUE(SUBSTITUTE('連結実質赤字比率に係る赤字・黒字の構成分析'!F$38,"▲","-")),2)<0,ABS(ROUND(VALUE(SUBSTITUTE('連結実質赤字比率に係る赤字・黒字の構成分析'!F$38,"▲","-")),2)),NA()) -> #N/A | C32: =IF(ROUND(VALUE(SUBSTITUTE('連結実質赤字比率に係る赤字・黒字の構成分析'!F$38,"▲","-")),2)>=0,ABS(ROUND(VALUE(SUBSTITUTE('連結実質赤字比率に係る赤字・黒字の構成分析'!F$38,"▲","-")),2)),NA()) -> 0.75 | D32: =IF(ROUND(VALUE(SUBSTITUTE('連結実質赤字比率に係る赤字・黒字の構成分析'!G$38,"▲","-")),2)<0,ABS(ROUND(VALUE(SUBSTITUTE('連結実質赤字比率に係る赤字・黒字の構成分析'!G$38,"▲","-")),2)),NA()) -> #N/A | E32: =IF(ROUND(VALUE(SUBSTITUTE('連結実質赤字比率に係る赤字・黒字の構成分析'!G$38,"▲","-")),2)>=0,ABS(ROUND(VALUE(SUBSTITUTE('連結実質赤字比率に係る赤字・黒字の構成分析'!G$38,"▲","-")),2)),NA()) -> 0.74 | F32: =IF(ROUND(VALUE(SUBSTITUTE('連結実質赤字比率に係る赤字・黒字の構成分析'!H$38,"▲","-")),2)<0,ABS(ROUND(VALUE(SUBSTITUTE('連結実質赤字比率に係る赤字・黒字の構成分析'!H$38,"▲","-")),2)),NA()) -> #N/A | G32: =IF(ROUND(VALUE(SUBSTITUTE('連結実質赤字比率に係る赤字・黒字の構成分析'!H$38,"▲","-")),2)>=0,ABS(ROUND(VALUE(SUBSTITUTE('連結実質赤字比率に係る赤字・黒字の構成分析'!H$38,"▲","-")),2)),NA()) -> 0 | H32: =IF(ROUND(VALUE(SUBSTITUTE('連結実質赤字比率に係る赤字・黒字の構成分析'!I$38,"▲","-")),2)<0,ABS(ROUND(VALUE(SUBSTITUTE('連結実質赤字比率に係る赤字・黒字の構成分析'!I$38,"▲","-")),2)),NA()) -> #N/A | I32: =IF(ROUND(VALUE(SUBSTITUTE('連結実質赤字比率に係る赤字・黒字の構成分析'!I$38,"▲","-")),2)>=0,ABS(ROUND(VALUE(SUBSTITUTE('連結実質赤字比率に係る赤字・黒字の構成分析'!I$38,"▲","-")),2)),NA()) -> 0.41 | J32: =IF(ROUND(VALUE(SUBSTITUTE('連結実質赤字比率に係る赤字・黒字の構成分析'!J$38,"▲","-")),2)<0,ABS(ROUND(VALUE(SUBSTITUTE('連結実質赤字比率に係る赤字・黒字の構成分析'!J$38,"▲","-")),2)),NA()) -> #N/A | K32: =IF(ROUND(VALUE(SUBSTITUTE('連結実質赤字比率に係る赤字・黒字の構成分析'!J$38,"▲","-")),2)>=0,ABS(ROUND(VALUE(SUBSTITUTE('連結実質赤字比率に係る赤字・黒字の構成分析'!J$38,"▲","-")),2)),NA()) -> 0.91
A33: =IF('連結実質赤字比率に係る赤字・黒字の構成分析'!C$37="",NA(),'連結実質赤字比率に係る赤字・黒字の構成分析'!C$37) -> 笠岡市介護保険事業特別会計 | B33: =IF(ROUND(VALUE(SUBSTITUTE('連結実質赤字比率に係る赤字・黒字の構成分析'!F$37,"▲","-")),2)<0,ABS(ROUND(VALUE(SUBSTITUTE('連結実質赤字比率に係る赤字・黒字の構成分析'!F$37,"▲","-")),2)),NA()) -> #N/A | C33: =IF(ROUND(VALUE(SUBSTITUTE('連結実質赤字比率に係る赤字・黒字の構成分析'!F$37,"▲","-")),2)>=0,ABS(ROUND(VALUE(SUBSTITUTE('連結実質赤字比率に係る赤字・黒字の構成分析'!F$37,"▲","-")),2)),NA()) -> 1.18 | D33: =IF(ROUND(VALUE(SUBSTITUTE('連結実質赤字比率に係る赤字・黒字の構成分析'!G$37,"▲","-")),2)<0,ABS(ROUND(VALUE(SUBSTITUTE('連結実質赤字比率に係る赤字・黒字の構成分析'!G$37,"▲","-")),2)),NA()) -> #N/A | E33: =IF(ROUND(VALUE(SUBSTITUTE('連結実質赤字比率に係る赤字・黒字の構成分析'!G$37,"▲","-")),2)>=0,ABS(ROUND(VALUE(SUBSTITUTE('連結実質赤字比率に係る赤字・黒字の構成分析'!G$37,"▲","-")),2)),NA()) -> 1.47 | F33: =IF(ROUND(VALUE(SUBSTITUTE('連結実質赤字比率に係る赤字・黒字の構成分析'!H$37,"▲","-")),2)<0,ABS(ROUND(VALUE(SUBSTITUTE('連結実質赤字比率に係る赤字・黒字の構成分析'!H$37,"▲","-")),2)),NA()) -> #N/A | G33: =IF(ROUND(VALUE(SUBSTITUTE('連結実質赤字比率に係る赤字・黒字の構成分析'!H$37,"▲","-")),2)>=0,ABS(ROUND(VALUE(SUBSTITUTE('連結実質赤字比率に係る赤字・黒字の構成分析'!H$37,"▲","-")),2)),NA()) -> 1.65 | H33: =IF(ROUND(VALUE(SUBSTITUTE('連結実質赤字比率に係る赤字・黒字の構成分析'!I$37,"▲","-")),2)<0,ABS(ROUND(VALUE(SUBSTITUTE('連結実質赤字比率に係る赤字・黒字の構成分析'!I$37,"▲","-")),2)),NA()) -> #N/A | I33: =IF(ROUND(VALUE(SUBSTITUTE('連結実質赤字比率に係る赤字・黒字の構成分析'!I$37,"▲","-")),2)>=0,ABS(ROUND(VALUE(SUBSTITUTE('連結実質赤字比率に係る赤字・黒字の構成分析'!I$37,"▲","-")),2)),NA()) -> 0.76 | J33: =IF(ROUND(VALUE(SUBSTITUTE('連結実質赤字比率に係る赤字・黒字の構成分析'!J$37,"▲","-")),2)<0,ABS(ROUND(VALUE(SUBSTITUTE('連結実質赤字比率に係る赤字・黒字の構成分析'!J$37,"▲","-")),2)),NA()) -> #N/A | K33: =IF(ROUND(VALUE(SUBSTITUTE('連結実質赤字比率に係る赤字・黒字の構成分析'!J$37,"▲","-")),2)>=0,ABS(ROUND(VALUE(SUBSTITUTE('連結実質赤字比率に係る赤字・黒字の構成分析'!J$37,"▲","-")),2)),NA()) -> 1.01
A34: =IF('連結実質赤字比率に係る赤字・黒字の構成分析'!C$36="",NA(),'連結実質赤字比率に係る赤字・黒字の構成分析'!C$36) -> 一般会計 | B34: =IF(ROUND(VALUE(SUBSTITUTE('連結実質赤字比率に係る赤字・黒字の構成分析'!F$36,"▲","-")),2)<0,ABS(ROUND(VALUE(SUBSTITUTE('連結実質赤字比率に係る赤字・黒字の構成分析'!F$36,"▲","-")),2)),NA()) -> #N/A | C34: =IF(ROUND(VALUE(SUBSTITUTE('連結実質赤字比率に係る赤字・黒字の構成分析'!F$36,"▲","-")),2)>=0,ABS(ROUND(VALUE(SUBSTITUTE('連結実質赤字比率に係る赤字・黒字の構成分析'!F$36,"▲","-")),2)),NA()) -> 3.45 | D34: =IF(ROUND(VALUE(SUBSTITUTE('連結実質赤字比率に係る赤字・黒字の構成分析'!G$36,"▲","-")),2)<0,ABS(ROUND(VALUE(SUBSTITUTE('連結実質赤字比率に係る赤字・黒字の構成分析'!G$36,"▲","-")),2)),NA()) -> #N/A | E34: =IF(ROUND(VALUE(SUBSTITUTE('連結実質赤字比率に係る赤字・黒字の構成分析'!G$36,"▲","-")),2)>=0,ABS(ROUND(VALUE(SUBSTITUTE('連結実質赤字比率に係る赤字・黒字の構成分析'!G$36,"▲","-")),2)),NA()) -> 5.85 | F34: =IF(ROUND(VALUE(SUBSTITUTE('連結実質赤字比率に係る赤字・黒字の構成分析'!H$36,"▲","-")),2)<0,ABS(ROUND(VALUE(SUBSTITUTE('連結実質赤字比率に係る赤字・黒字の構成分析'!H$36,"▲","-")),2)),NA()) -> #N/A | G34: =IF(ROUND(VALUE(SUBSTITUTE('連結実質赤字比率に係る赤字・黒字の構成分析'!H$36,"▲","-")),2)>=0,ABS(ROUND(VALUE(SUBSTITUTE('連結実質赤字比率に係る赤字・黒字の構成分析'!H$36,"▲","-")),2)),NA()) -> 4.79 | H34: =IF(ROUND(VALUE(SUBSTITUTE('連結実質赤字比率に係る赤字・黒字の構成分析'!I$36,"▲","-")),2)<0,ABS(ROUND(VALUE(SUBSTITUTE('連結実質赤字比率に係る赤字・黒字の構成分析'!I$36,"▲","-")),2)),NA()) -> #N/A | I34: =IF(ROUND(VALUE(SUBSTITUTE('連結実質赤字比率に係る赤字・黒字の構成分析'!I$36,"▲","-")),2)>=0,ABS(ROUND(VALUE(SUBSTITUTE('連結実質赤字比率に係る赤字・黒字の構成分析'!I$36,"▲","-")),2)),NA()) -> 2.48 | J34: =IF(ROUND(VALUE(SUBSTITUTE('連結実質赤字比率に係る赤字・黒字の構成分析'!J$36,"▲","-")),2)<0,ABS(ROUND(VALUE(SUBSTITUTE('連結実質赤字比率に係る赤字・黒字の構成分析'!J$36,"▲","-")),2)),NA()) -> #N/A | K34: =IF(ROUND(VALUE(SUBSTITUTE('連結実質赤字比率に係る赤字・黒字の構成分析'!J$36,"▲","-")),2)>=0,ABS(ROUND(VALUE(SUBSTITUTE('連結実質赤字比率に係る赤字・黒字の構成分析'!J$36,"▲","-")),2)),NA()) -> 3.48
A35: =IF('連結実質赤字比率に係る赤字・黒字の構成分析'!C$35="",NA(),'連結実質赤字比率に係る赤字・黒字の構成分析'!C$35) -> 笠岡市病院事業会計 | B35: =IF(ROUND(VALUE(SUBSTITUTE('連結実質赤字比率に係る赤字・黒字の構成分析'!F$35,"▲","-")),2)<0,ABS(ROUND(VALUE(SUBSTITUTE('連結実質赤字比率に係る赤字・黒字の構成分析'!F$35,"▲","-")),2)),NA()) -> #N/A | C35: =IF(ROUND(VALUE(SUBSTITUTE('連結実質赤字比率に係る赤字・黒字の構成分析'!F$35,"▲","-")),2)>=0,ABS(ROUND(VALUE(SUBSTITUTE('連結実質赤字比率に係る赤字・黒字の構成分析'!F$35,"▲","-")),2)),NA()) -> 0 | D35: =IF(ROUND(VALUE(SUBSTITUTE('連結実質赤字比率に係る赤字・黒字の構成分析'!G$35,"▲","-")),2)<0,ABS(ROUND(VALUE(SUBSTITUTE('連結実質赤字比率に係る赤字・黒字の構成分析'!G$35,"▲","-")),2)),NA()) -> #N/A | E35: =IF(ROUND(VALUE(SUBSTITUTE('連結実質赤字比率に係る赤字・黒字の構成分析'!G$35,"▲","-")),2)>=0,ABS(ROUND(VALUE(SUBSTITUTE('連結実質赤字比率に係る赤字・黒字の構成分析'!G$35,"▲","-")),2)),NA()) -> 0 | F35: =IF(ROUND(VALUE(SUBSTITUTE('連結実質赤字比率に係る赤字・黒字の構成分析'!H$35,"▲","-")),2)<0,ABS(ROUND(VALUE(SUBSTITUTE('連結実質赤字比率に係る赤字・黒字の構成分析'!H$35,"▲","-")),2)),NA()) -> #N/A | G35: =IF(ROUND(VALUE(SUBSTITUTE('連結実質赤字比率に係る赤字・黒字の構成分析'!H$35,"▲","-")),2)>=0,ABS(ROUND(VALUE(SUBSTITUTE('連結実質赤字比率に係る赤字・黒字の構成分析'!H$35,"▲","-")),2)),NA()) -> 2.92 | H35: =IF(ROUND(VALUE(SUBSTITUTE('連結実質赤字比率に係る赤字・黒字の構成分析'!I$35,"▲","-")),2)<0,ABS(ROUND(VALUE(SUBSTITUTE('連結実質赤字比率に係る赤字・黒字の構成分析'!I$35,"▲","-")),2)),NA()) -> #N/A | I35: =IF(ROUND(VALUE(SUBSTITUTE('連結実質赤字比率に係る赤字・黒字の構成分析'!I$35,"▲","-")),2)>=0,ABS(ROUND(VALUE(SUBSTITUTE('連結実質赤字比率に係る赤字・黒字の構成分析'!I$35,"▲","-")),2)),NA()) -> 4.92 | J35: =IF(ROUND(VALUE(SUBSTITUTE('連結実質赤字比率に係る赤字・黒字の構成分析'!J$35,"▲","-")),2)<0,ABS(ROUND(VALUE(SUBSTITUTE('連結実質赤字比率に係る赤字・黒字の構成分析'!J$35,"▲","-")),2)),NA()) -> #N/A | K35: =IF(ROUND(VALUE(SUBSTITUTE('連結実質赤字比率に係る赤字・黒字の構成分析'!J$35,"▲","-")),2)>=0,ABS(ROUND(VALUE(SUBSTITUTE('連結実質赤字比率に係る赤字・黒字の構成分析'!J$35,"▲","-")),2)),NA()) -> 4.93
A36: =IF('連結実質赤字比率に係る赤字・黒字の構成分析'!C$34="",NA(),'連結実質赤字比率に係る赤字・黒字の構成分析'!C$34) -> 笠岡市水道事業会計 | B36: =IF(ROUND(VALUE(SUBSTITUTE('連結実質赤字比率に係る赤字・黒字の構成分析'!F$34,"▲","-")),2)<0,ABS(ROUND(VALUE(SUBSTITUTE('連結実質赤字比率に係る赤字・黒字の構成分析'!F$34,"▲","-")),2)),NA()) -> #N/A | C36: =IF(ROUND(VALUE(SUBSTITUTE('連結実質赤字比率に係る赤字・黒字の構成分析'!F$34,"▲","-")),2)>=0,ABS(ROUND(VALUE(SUBSTITUTE('連結実質赤字比率に係る赤字・黒字の構成分析'!F$34,"▲","-")),2)),NA()) -> 12.65 | D36: =IF(ROUND(VALUE(SUBSTITUTE('連結実質赤字比率に係る赤字・黒字の構成分析'!G$34,"▲","-")),2)<0,ABS(ROUND(VALUE(SUBSTITUTE('連結実質赤字比率に係る赤字・黒字の構成分析'!G$34,"▲","-")),2)),NA()) -> #N/A | E36: =IF(ROUND(VALUE(SUBSTITUTE('連結実質赤字比率に係る赤字・黒字の構成分析'!G$34,"▲","-")),2)>=0,ABS(ROUND(VALUE(SUBSTITUTE('連結実質赤字比率に係る赤字・黒字の構成分析'!G$34,"▲","-")),2)),NA()) -> 11.79 | F36: =IF(ROUND(VALUE(SUBSTITUTE('連結実質赤字比率に係る赤字・黒字の構成分析'!H$34,"▲","-")),2)<0,ABS(ROUND(VALUE(SUBSTITUTE('連結実質赤字比率に係る赤字・黒字の構成分析'!H$34,"▲","-")),2)),NA()) -> #N/A | G36: =IF(ROUND(VALUE(SUBSTITUTE('連結実質赤字比率に係る赤字・黒字の構成分析'!H$34,"▲","-")),2)>=0,ABS(ROUND(VALUE(SUBSTITUTE('連結実質赤字比率に係る赤字・黒字の構成分析'!H$34,"▲","-")),2)),NA()) -> 12.1 | H36: =IF(ROUND(VALUE(SUBSTITUTE('連結実質赤字比率に係る赤字・黒字の構成分析'!I$34,"▲","-")),2)<0,ABS(ROUND(VALUE(SUBSTITUTE('連結実質赤字比率に係る赤字・黒字の構成分析'!I$34,"▲","-")),2)),NA()) -> #N/A | I36: =IF(ROUND(VALUE(SUBSTITUTE('連結実質赤字比率に係る赤字・黒字の構成分析'!I$34,"▲","-")),2)>=0,ABS(ROUND(VALUE(SUBSTITUTE('連結実質赤字比率に係る赤字・黒字の構成分析'!I$34,"▲","-")),2)),NA()) -> 10.72 | J36: =IF(ROUND(VALUE(SUBSTITUTE('連結実質赤字比率に係る赤字・黒字の構成分析'!J$34,"▲","-")),2)<0,ABS(ROUND(VALUE(SUBSTITUTE('連結実質赤字比率に係る赤字・黒字の構成分析'!J$34,"▲","-")),2)),NA()) -> #N/A | K36: =IF(ROUND(VALUE(SUBSTITUTE('連結実質赤字比率に係る赤字・黒字の構成分析'!J$34,"▲","-")),2)>=0,ABS(ROUND(VALUE(SUBSTITUTE('連結実質赤字比率に係る赤字・黒字の構成分析'!J$34,"▲","-")),2)),NA()) -> 9.18
A39: 実質公債費比率（分子）の構造
B40: ='実質公債費比率（分子）の構造'!K$44 -> R02 | E40: ='実質公債費比率（分子）の構造'!L$44 -> R03 | H40: ='実質公債費比率（分子）の構造'!M$44 -> R04 | K40: ='実質公債費比率（分子）の構造'!N$44 -> R05 | N40: ='実質公債費比率（分子）の構造'!O$44 -> R06
B41: 元利償還金等 | D41: 算入公債費等 | E41: 元利償還金等 | G41: 算入公債費等 | H41: 元利償還金等 | J41: 算入公債費等 | K41: 元利償還金等 | M41: 算入公債費等 | N41: 元利償還金等 | P41: 算入公債費等
A42: 算入公債費等 | D42: ='実質公債費比率（分子）の構造'!K$52 -> 2219 | G42: ='実質公債費比率（分子）の構造'!L$52 -> 2196 | J42: ='実質公債費比率（分子）の構造'!M$52 -> 2109 | M42: ='実質公債費比率（分子）の構造'!N$52 -> 2011 | P42: ='実質公債費比率（分子）の構造'!O$52 -> 2018
A43: 一時借入金の利子 | B43: ='実質公債費比率（分子）の構造'!K$51 -> - | E43: ='実質公債費比率（分子）の構造'!L$51 -> - | H43: ='実質公債費比率（分子）の構造'!M$51 -> - | K43: ='実質公債費比率（分子）の構造'!N$51 -> - | N43: ='実質公債費比率（分子）の構造'!O$51 -> -
A44: 債務負担行為に基づく支出額 | B44: ='実質公債費比率（分子）の構造'!K$50 -> 58 | E44: ='実質公債費比率（分子）の構造'!L$50 -> 57 | H44: ='実質公債費比率（分子）の構造'!M$50 -> 93 | K44: ='実質公債費比率（分子）の構造'!N$50 -> 80 | N44: ='実質公債費比率（分子）の構造'!O$50 -> 132
A45: 組合等が起こした地方債の元利償還金に対する負担金等 | B45: ='実質公債費比率（分子）の構造'!K$49 -> 163 | E45: ='実質公債費比率（分子）の構造'!L$49 -> 159 | H45: ='実質公債費比率（分子）の構造'!M$49 -> 156 | K45: ='実質公債費比率（分子）の構造'!N$49 -> 142 | N45: ='実質公債費比率（分子）の構造'!O$49 -> 86
A46: 公営企業債の元利償還金に対する繰入金 | B46: ='実質公債費比率（分子）の構造'!K$48 -> 656 | E46: ='実質公債費比率（分子）の構造'!L$48 -> 537 | H46: ='実質公債費比率（分子）の構造'!M$48 -> 523 | K46: ='実質公債費比率（分子）の構造'!N$48 -> 500 | N46: ='実質公債費比率（分子）の構造'!O$48 -> 470
A47: 満期一括償還地方債に係る年度割相当額 | B47: ='実質公債費比率（分子）の構造'!K$47 -> - | E47: ='実質公債費比率（分子）の構造'!L$47 -> - | H47: ='実質公債費比率（分子）の構造'!M$47 -> - | K47: ='実質公債費比率（分子）の構造'!N$47 -> - | N47: ='実質公債費比率（分子）の構造'!O$47 -> -
...

Sheet 公会計指標分析・財政指標組合せ分析表
B41: 将来負担比率及び有形固定資産減価償却率の組合せによる分析
AN42: 分析欄
AN43: 将来負担比率は57.6％と，前年度（48.2％）から9.4ポイント上昇し，類似団体内平均値（16.1％）を大幅に上回っている。 また，公共施設の老朽化が進行していることから，有形固定資産減価償却率は74.3％と，前年度（73.4％）からさらに上昇しており，類似団体内平均値（68.1％）を上回っている。 両指標ともに類似団体内平均値を上回っている状況であり，将来世代の負担が大きくなりすぎないよう，ハード事業の実施について慎重に検討するとともに，公共施設等総合管理計画に基づき，老朽化した施設の除却や集約化・複合化を着実に推進する必要がある。
AN49: ( 参考 ）
BP50: R02 | BX50: R03 | CF50: R04 | CN50: R05 | CV50: R06
AN51: 当該団体値 | BB51: 将来負担比率 | BP51: 59.5 | BX51: 51 | CF51: 51.3 | CN51: 48.2 | CV51: 57.6
BB53: 有形固定資産減価償却率 | BP53: 69.4 | BX53: 70.8 | CF53: 72.1 | CN53: 73.4 | CV53: 74.3
AN55: 類似団体内平均値 | BB55: 将来負担比率 | BP55: 37.3 | BX55: 25.4 | CF55: 17.6 | CN55: 17.2 | CV55: 16.1
BB57: 有形固定資産減価償却率 | BP57: 62 | BX57: 63.2 | CF57: 65.3 | CN57: 66.9 | CV57: 68.1
B63: 将来負担比率及び実質公債費比率の組合せによる分析
AN64: 分析欄
AN65: 将来負担比率は類似団体平均と比較して依然として高い水準にある一方，実質公債費比率は8.1％と，前年度（7.8％）から上昇したものの，類似団体内平均値（8.7％）を下回っている。 いずれの比率も，大規模ハード事業の実施やそれに伴う市債の償還により上昇が見込まれるが，比率の大幅な上昇を招かないよう，ハード事業の実施について引き続き慎重に検討していく必要がある。
AN71: ( 参考 ）
BP72: R02 | BX72: R03 | CF72: R04 | CN72: R05 | CV72: R06
AN73: 当該団体値 | BB73: 将来負担比率 | BP73: 59.5 | BX73: 51 | CF73: 51.3 | CN73: 48.2 | CV73: 57.6
BB75: 実質公債費比率 | BP75: 6.4 | BX75: 6.5 | CF75: 7.2 | CN75: 7.8 | CV75: 8.1
AN77: 類似団体内平均値 | BB77: 将来負担比率 | BP77: 37.3 | BX77: 25.4 | CF77: 17.6 | CN77: 17.2 | CV77: 16.1
BB79: 実質公債費比率 | BP79: 8.6 | BX79: 8.3 | CF79: 8.4 | CN79: 8.6 | CV79: 8.7

Sheet 施設類型別ストック情報分析表①

Sheet 施設類型別ストック情報分析表②
